BEGIN:VCALENDAR
VERSION:2.0
PRODID:-//SSV Ettlingen - ECPv6.15.20//NONSGML v1.0//EN
CALSCALE:GREGORIAN
METHOD:PUBLISH
X-WR-CALNAME:SSV Ettlingen
X-ORIGINAL-URL:https://ssv-ettlingen.de
X-WR-CALDESC:Veranstaltungen für SSV Ettlingen
REFRESH-INTERVAL;VALUE=DURATION:PT1H
X-Robots-Tag:noindex
X-PUBLISHED-TTL:PT1H
BEGIN:VTIMEZONE
TZID:Europe/Berlin
BEGIN:DAYLIGHT
TZOFFSETFROM:+0100
TZOFFSETTO:+0200
TZNAME:CEST
DTSTART:20250330T010000
END:DAYLIGHT
BEGIN:STANDARD
TZOFFSETFROM:+0200
TZOFFSETTO:+0100
TZNAME:CET
DTSTART:20251026T010000
END:STANDARD
BEGIN:DAYLIGHT
TZOFFSETFROM:+0100
TZOFFSETTO:+0200
TZNAME:CEST
DTSTART:20260329T010000
END:DAYLIGHT
BEGIN:STANDARD
TZOFFSETFROM:+0200
TZOFFSETTO:+0100
TZNAME:CET
DTSTART:20261025T010000
END:STANDARD
BEGIN:DAYLIGHT
TZOFFSETFROM:+0100
TZOFFSETTO:+0200
TZNAME:CEST
DTSTART:20270328T010000
END:DAYLIGHT
BEGIN:STANDARD
TZOFFSETFROM:+0200
TZOFFSETTO:+0100
TZNAME:CET
DTSTART:20271031T010000
END:STANDARD
END:VTIMEZONE
BEGIN:VEVENT
DTSTART;TZID=Europe/Berlin:20260508T000000
DTEND;TZID=Europe/Berlin:20260508T235959
DTSTAMP:20260420T090955
CREATED:20260203T190030Z
LAST-MODIFIED:20260203T190030Z
UID:2136-1778198400-1778284799@ssv-ettlingen.de
SUMMARY:Gästevermietung
DESCRIPTION:
URL:https://ssv-ettlingen.de/veranstaltung/gaestevermietung-16/
CATEGORIES:Veranstaltungsraum
END:VEVENT
BEGIN:VEVENT
DTSTART;TZID=Europe/Berlin:20260509T000000
DTEND;TZID=Europe/Berlin:20260509T235959
DTSTAMP:20260420T090955
CREATED:20251027T095915Z
LAST-MODIFIED:20251027T095915Z
UID:1722-1778284800-1778371199@ssv-ettlingen.de
SUMMARY:Gästevermietung
DESCRIPTION:
URL:https://ssv-ettlingen.de/veranstaltung/gaestevermietung/
CATEGORIES:Veranstaltungsraum
END:VEVENT
BEGIN:VEVENT
DTSTART;TZID=Europe/Berlin:20260510T000000
DTEND;TZID=Europe/Berlin:20260510T235959
DTSTAMP:20260420T090955
CREATED:20251027T100004Z
LAST-MODIFIED:20251027T100102Z
UID:1725-1778371200-1778457599@ssv-ettlingen.de
SUMMARY:Gästevermietung
DESCRIPTION:
URL:https://ssv-ettlingen.de/veranstaltung/gaestevermietung-2/
CATEGORIES:Veranstaltungsraum
END:VEVENT
BEGIN:VEVENT
DTSTART;TZID=Europe/Berlin:20260511T173000
DTEND;TZID=Europe/Berlin:20260511T193000
DTSTAMP:20260420T090955
CREATED:20251127T130959Z
LAST-MODIFIED:20251127T130959Z
UID:1909-1778520600-1778527800@ssv-ettlingen.de
SUMMARY:Vorstandssitzung
DESCRIPTION:
URL:https://ssv-ettlingen.de/veranstaltung/vorstandssitzung-13/
LOCATION:SSV Geschäftstelle\, Am Stadion\, Ettlingen\, Germany
CATEGORIES:Veranstaltungsraum
END:VEVENT
END:VCALENDAR