BEGIN:VCALENDAR
VERSION:2.0
PRODID:-//SSV Ettlingen - ECPv6.15.20//NONSGML v1.0//EN
CALSCALE:GREGORIAN
METHOD:PUBLISH
X-ORIGINAL-URL:https://ssv-ettlingen.de
X-WR-CALDESC:Veranstaltungen für SSV Ettlingen
REFRESH-INTERVAL;VALUE=DURATION:PT1H
X-Robots-Tag:noindex
X-PUBLISHED-TTL:PT1H
BEGIN:VTIMEZONE
TZID:Europe/Berlin
BEGIN:DAYLIGHT
TZOFFSETFROM:+0100
TZOFFSETTO:+0200
TZNAME:CEST
DTSTART:20250330T010000
END:DAYLIGHT
BEGIN:STANDARD
TZOFFSETFROM:+0200
TZOFFSETTO:+0100
TZNAME:CET
DTSTART:20251026T010000
END:STANDARD
BEGIN:DAYLIGHT
TZOFFSETFROM:+0100
TZOFFSETTO:+0200
TZNAME:CEST
DTSTART:20260329T010000
END:DAYLIGHT
BEGIN:STANDARD
TZOFFSETFROM:+0200
TZOFFSETTO:+0100
TZNAME:CET
DTSTART:20261025T010000
END:STANDARD
BEGIN:DAYLIGHT
TZOFFSETFROM:+0100
TZOFFSETTO:+0200
TZNAME:CEST
DTSTART:20270328T010000
END:DAYLIGHT
BEGIN:STANDARD
TZOFFSETFROM:+0200
TZOFFSETTO:+0100
TZNAME:CET
DTSTART:20271031T010000
END:STANDARD
END:VTIMEZONE
BEGIN:VEVENT
DTSTART;TZID=Europe/Berlin:20260306T000000
DTEND;TZID=Europe/Berlin:20260306T235959
DTSTAMP:20260420T131936
CREATED:20260203T185449Z
LAST-MODIFIED:20260203T185449Z
UID:2124-1772755200-1772841599@ssv-ettlingen.de
SUMMARY:Gästevermietung
DESCRIPTION:
URL:https://ssv-ettlingen.de/veranstaltung/gaestevermietung-10/
CATEGORIES:Veranstaltungsraum
END:VEVENT
BEGIN:VEVENT
DTSTART;TZID=Europe/Berlin:20260307T000000
DTEND;TZID=Europe/Berlin:20260307T235959
DTSTAMP:20260420T131936
CREATED:20260203T185540Z
LAST-MODIFIED:20260203T185540Z
UID:2126-1772841600-1772927999@ssv-ettlingen.de
SUMMARY:Gästevermietung
DESCRIPTION:
URL:https://ssv-ettlingen.de/veranstaltung/gaestevermietung-11/
CATEGORIES:Veranstaltungsraum
END:VEVENT
BEGIN:VEVENT
DTSTART;TZID=Europe/Berlin:20260308T000000
DTEND;TZID=Europe/Berlin:20260308T235959
DTSTAMP:20260420T131936
CREATED:20260203T185619Z
LAST-MODIFIED:20260203T185619Z
UID:2128-1772928000-1773014399@ssv-ettlingen.de
SUMMARY:Gästevermietung
DESCRIPTION:
URL:https://ssv-ettlingen.de/veranstaltung/gaestevermietung-12/
CATEGORIES:Veranstaltungsraum
END:VEVENT
BEGIN:VEVENT
DTSTART;TZID=Europe/Berlin:20260309T173000
DTEND;TZID=Europe/Berlin:20260309T193000
DTSTAMP:20260420T131936
CREATED:20251127T130717Z
LAST-MODIFIED:20251127T130717Z
UID:1901-1773077400-1773084600@ssv-ettlingen.de
SUMMARY:Vorstandssitzung
DESCRIPTION:
URL:https://ssv-ettlingen.de/veranstaltung/vorstandssitzung-9/
LOCATION:SSV Geschäftstelle\, Am Stadion\, Ettlingen\, Germany
CATEGORIES:Veranstaltungsraum
END:VEVENT
BEGIN:VEVENT
DTSTART;TZID=Europe/Berlin:20260312T170000
DTEND;TZID=Europe/Berlin:20260312T220000
DTSTAMP:20260420T131936
CREATED:20260309T130635Z
LAST-MODIFIED:20260309T130635Z
UID:2231-1773334800-1773352800@ssv-ettlingen.de
SUMMARY:Abt. Fussball
DESCRIPTION:
URL:https://ssv-ettlingen.de/veranstaltung/abt-fussball/
CATEGORIES:Veranstaltungsraum
END:VEVENT
BEGIN:VEVENT
DTSTART;TZID=Europe/Berlin:20260313T000000
DTEND;TZID=Europe/Berlin:20260313T235959
DTSTAMP:20260420T131936
CREATED:20260123T145321Z
LAST-MODIFIED:20260123T145321Z
UID:2050-1773360000-1773446399@ssv-ettlingen.de
SUMMARY:Gästevermietung
DESCRIPTION:
URL:https://ssv-ettlingen.de/veranstaltung/gaestevermietung-7/
CATEGORIES:Veranstaltungsraum
END:VEVENT
BEGIN:VEVENT
DTSTART;TZID=Europe/Berlin:20260314T000000
DTEND;TZID=Europe/Berlin:20260314T235959
DTSTAMP:20260420T131936
CREATED:20260123T145401Z
LAST-MODIFIED:20260123T145401Z
UID:2052-1773446400-1773532799@ssv-ettlingen.de
SUMMARY:Gästevermietung
DESCRIPTION:
URL:https://ssv-ettlingen.de/veranstaltung/gaestevermietung-8/
CATEGORIES:Veranstaltungsraum
END:VEVENT
BEGIN:VEVENT
DTSTART;TZID=Europe/Berlin:20260315T000000
DTEND;TZID=Europe/Berlin:20260315T235959
DTSTAMP:20260420T131936
CREATED:20260123T145442Z
LAST-MODIFIED:20260123T145442Z
UID:2055-1773532800-1773619199@ssv-ettlingen.de
SUMMARY:Gästevermietung
DESCRIPTION:
URL:https://ssv-ettlingen.de/veranstaltung/gaestevermietung-9/
CATEGORIES:Veranstaltungsraum
END:VEVENT
BEGIN:VEVENT
DTSTART;TZID=Europe/Berlin:20260319T000000
DTEND;TZID=Europe/Berlin:20260319T235959
DTSTAMP:20260420T131936
CREATED:20251126T105631Z
LAST-MODIFIED:20251126T105631Z
UID:1884-1773878400-1773964799@ssv-ettlingen.de
SUMMARY:Flohmarkt
DESCRIPTION:
URL:https://ssv-ettlingen.de/veranstaltung/flohmarkt-2/
CATEGORIES:Veranstaltungsraum
END:VEVENT
BEGIN:VEVENT
DTSTART;TZID=Europe/Berlin:20260320T000000
DTEND;TZID=Europe/Berlin:20260320T235959
DTSTAMP:20260420T131936
CREATED:20251126T105724Z
LAST-MODIFIED:20251126T105724Z
UID:1886-1773964800-1774051199@ssv-ettlingen.de
SUMMARY:Flohmarkt
DESCRIPTION:
URL:https://ssv-ettlingen.de/veranstaltung/flohmarkt-3/
CATEGORIES:Veranstaltungsraum
END:VEVENT
BEGIN:VEVENT
DTSTART;TZID=Europe/Berlin:20260321T000000
DTEND;TZID=Europe/Berlin:20260321T235959
DTSTAMP:20260420T131936
CREATED:20251126T105847Z
LAST-MODIFIED:20251126T105847Z
UID:1888-1774051200-1774137599@ssv-ettlingen.de
SUMMARY:Flohmarkt
DESCRIPTION:
URL:https://ssv-ettlingen.de/veranstaltung/flohmarkt-4/
CATEGORIES:Veranstaltungsraum
END:VEVENT
BEGIN:VEVENT
DTSTART;TZID=Europe/Berlin:20260322T000000
DTEND;TZID=Europe/Berlin:20260322T235959
DTSTAMP:20260420T131936
CREATED:20251126T110119Z
LAST-MODIFIED:20251126T110119Z
UID:1890-1774137600-1774223999@ssv-ettlingen.de
SUMMARY:Flohmarkt
DESCRIPTION:
URL:https://ssv-ettlingen.de/veranstaltung/flohmarkt-5/
CATEGORIES:Veranstaltungsraum
END:VEVENT
BEGIN:VEVENT
DTSTART;TZID=Europe/Berlin:20260323T173000
DTEND;TZID=Europe/Berlin:20260323T193000
DTSTAMP:20260420T131936
CREATED:20251127T130756Z
LAST-MODIFIED:20251127T130756Z
UID:1903-1774287000-1774294200@ssv-ettlingen.de
SUMMARY:Vorstandssitzung
DESCRIPTION:
URL:https://ssv-ettlingen.de/veranstaltung/vorstandssitzung-10/
LOCATION:SSV Geschäftstelle\, Am Stadion\, Ettlingen\, Germany
CATEGORIES:Veranstaltungsraum
END:VEVENT
BEGIN:VEVENT
DTSTART;TZID=Europe/Berlin:20260327T000000
DTEND;TZID=Europe/Berlin:20260327T235959
DTSTAMP:20260420T131936
CREATED:20260109T100608Z
LAST-MODIFIED:20260109T100608Z
UID:2006-1774569600-1774655999@ssv-ettlingen.de
SUMMARY:Gästevermietung
DESCRIPTION:
URL:https://ssv-ettlingen.de/veranstaltung/gaestevermietung-3/
CATEGORIES:Veranstaltungsraum
END:VEVENT
BEGIN:VEVENT
DTSTART;TZID=Europe/Berlin:20260328T000000
DTEND;TZID=Europe/Berlin:20260328T235959
DTSTAMP:20260420T131936
CREATED:20260109T100702Z
LAST-MODIFIED:20260109T100702Z
UID:2008-1774656000-1774742399@ssv-ettlingen.de
SUMMARY:Gästevermietung
DESCRIPTION:
URL:https://ssv-ettlingen.de/veranstaltung/gaestevermietung-4/
CATEGORIES:Veranstaltungsraum
END:VEVENT
BEGIN:VEVENT
DTSTART;TZID=Europe/Berlin:20260329T000000
DTEND;TZID=Europe/Berlin:20260329T235959
DTSTAMP:20260420T131936
CREATED:20260109T100830Z
LAST-MODIFIED:20260109T100830Z
UID:2010-1774742400-1774828799@ssv-ettlingen.de
SUMMARY:Gästevermietung
DESCRIPTION:
URL:https://ssv-ettlingen.de/veranstaltung/gaestevermietung-5/
CATEGORIES:Veranstaltungsraum
END:VEVENT
END:VCALENDAR